BEGIN:VCALENDAR
VERSION:2.0
PRODID:-//The Retirees Association - ECPv6.9.0//NONSGML v1.0//EN
CALSCALE:GREGORIAN
METHOD:PUBLISH
X-ORIGINAL-URL:https://testsite.tra-spacepark.org/cachetest
X-WR-CALDESC:Events for The Retirees Association
REFRESH-INTERVAL;VALUE=DURATION:PT1H
X-Robots-Tag:noindex
X-PUBLISHED-TTL:PT1H
BEGIN:VTIMEZONE
TZID:America/Los_Angeles
BEGIN:DAYLIGHT
TZOFFSETFROM:-0800
TZOFFSETTO:-0700
TZNAME:PDT
DTSTART:20240310T100000
END:DAYLIGHT
BEGIN:STANDARD
TZOFFSETFROM:-0700
TZOFFSETTO:-0800
TZNAME:PST
DTSTART:20241103T090000
END:STANDARD
END:VTIMEZONE
BEGIN:VEVENT
DTSTART;TZID=America/Los_Angeles:20240829T110000
DTEND;TZID=America/Los_Angeles:20240829T140000
DTSTAMP:20260424T143232
CREATED:20240717T212411Z
LAST-MODIFIED:20240805T231606Z
UID:10613-1724929200-1724940000@testsite.tra-spacepark.org
SUMMARY:2024 Summer Reunion
DESCRIPTION:== ONLINE REGISTRATION CLOSES FRIDAY\, AUGUST 23 AT MIDNIGHT == \nIt’s time to make your reservations for our annual Summer Reunion luncheon\, which is a great way to reconnect with former co-workers and see what they’ve been up to in retirement! This year\, we will be at: \nMarmalade Café\n2014 East Park Place\nEl Segundo\, CA 90245\nThursday\, August 29\, 11:00 AM to 2:00 PM \nCost:  $35/person (including tax and tip) \n(Attendees List) \nDoors will open at 11:00 AM\, so no need to arrive early. There will be plenty of time to mingle before lunch. \nFor lunch we will have a choice of: \n\nChinese Chicken Salad\nThe Half Pound Cafe Burger\nFresh Salmon and Asparagus Farfalle pasta\nRoasted Turkey and Italian Veggie Wrap\,\nCheese Ravioli (vegetarian)\n\nAll meals include a beverage of your choice (coffee\, iced tea\, soft drink) and dessert. There will be a no-host bar if you would like beer\, wine\, or a cocktail with your meal. \nPlease enter the total number for each menu item which includes those for each guest in your party ordering that particular menu item. A subsequent form will ask for each guestʻs full name\, email address and any dietary restriction per menu item selected. Payment can be made by credit card or PayPal. A PayPal account is not required for a credit card payment. \nNote:  Space is limited to 80 people and we won’t be able to accept walk-ins at the door. Online registration will close August 23 or earlier if we reach capacity. We hope to see you there! \nIf you prefer to mail-in your reservation\, download the mail-in form. Note:  Mail-in reservations must be postmarked no later that August 14\, in order to be accepted. \nIMPORTANT:  If you encounter an issue with registering online (particularly during payment checkout)\, please download and mail-in your registration using the event download form\, which must be postmarked no later than August 14. Sorry for any inconvenience. \nQuestions?  Contact reservations@tra-spacepark.org. \n 
URL:https://testsite.tra-spacepark.org/cachetest/event/2024-summer-reunion/
LOCATION:Marmalade Cafe\, 2014 East Park Place\, El Segundo\, CA\, 90245
CATEGORIES:TRA Events
END:VEVENT
END:VCALENDAR